BEGIN:VCALENDAR
VERSION:2.0
PRODID:icalendar-ruby
CALSCALE:GREGORIAN
METHOD:PUBLISH
BEGIN:VEVENT
DTSTAMP:20260424T155645Z
UID:https://www.mpg.de/events/44648/2176
DTSTART:20260324T180000Z
DTEND:20260324T203000Z
CLASS:PUBLIC
CREATED:20260202T085939Z
DESCRIPTION:Der Vortrag zeigt\, wie grundlegende Ereignisse wie Geburt und 
 Tod in Populationen mithilfe von Modellen zu evolutiven Prozessen zusammen
 gedacht werden. Dabei entstehen Faustregeln\, etwa zur Durchsetzung neuer 
 Mutationen. Ziel dieser Modelle ist nicht\, die Wirklichkeit exakt abzubil
 den\, sondern komplexe Fragen präziser zu stellen – ganz im Sinne von 
 „Alle Modelle sind falsch\, aber einige sind nützlich“.\nVortragende(
 r): Arne Traulsen
LAST-MODIFIED:20260202T090031Z
LOCATION:Max-Planck-Institut für Evolutionsbiologie Plön\, Raum: Hörsaal
ORGANIZER;CN=Max Planck Institut für Evolutionsbiologie:mailto:pr@evolbio.
 mpg.de
SUMMARY:Plöner Winter Talks: (Räumliche) Modelle in der Evolutionsbiologi
 e
URL;VALUE=URI:https://www.mpg.de/events/44648/2176
END:VEVENT
END:VCALENDAR
